BEGIN:VCALENDAR
VERSION:2.0
PRODID:icalendar-ruby
CALSCALE:GREGORIAN
X-WR-TIMEZONE:Europe/Helsinki
BEGIN:VTIMEZONE
TZID:Europe/Helsinki
BEGIN:DAYLIGHT
DTSTART:20260329T040000
TZOFFSETFROM:+0200
TZOFFSETTO:+0300
RRULE:FREQ=YEARLY;BYDAY=-1SU;BYMONTH=3
TZNAME:EEST
END:DAYLIGHT
BEGIN:STANDARD
DTSTART:20261025T030000
TZOFFSETFROM:+0300
TZOFFSETTO:+0200
RRULE:FREQ=YEARLY;BYDAY=-1SU;BYMONTH=10
TZNAME:EET
END:STANDARD
END:VTIMEZONE
BEGIN:VEVENT
DTSTAMP:20260423T181515
UID:urabasket.myclub.fi-8036728
DTSTART;TZID=Europe/Helsinki:20241129T183000
DTEND;TZID=Europe/Helsinki:20241129T203000
DESCRIPTION:https://urabasket.myclub.fi/flow/events/8036728
LOCATION:Valkeavuoren liikuntahalli\, Veitenmäentie 29\, 20780 Kaarina
SEQUENCE:0
SUMMARY:Miesten 1 div. B: Ura Basket vs. BC Nokia II
URL;VALUE=URI:https://urabasket.myclub.fi/flow/events/8036728
END:VEVENT
END:VCALENDAR
